BEGIN:VCALENDAR
VERSION:2.0
PRODID:-//PHARM FOOT - ECPv6.15.18//NONSGML v1.0//EN
CALSCALE:GREGORIAN
METHOD:PUBLISH
X-WR-CALNAME:PHARM FOOT
X-ORIGINAL-URL:https://pharmfoot.com
X-WR-CALDESC:Wydarzenia dla PHARM FOOT
REFRESH-INTERVAL;VALUE=DURATION:PT1H
X-Robots-Tag:noindex
X-PUBLISHED-TTL:PT1H
BEGIN:VTIMEZONE
TZID:Europe/Warsaw
BEGIN:DAYLIGHT
TZOFFSETFROM:+0100
TZOFFSETTO:+0200
TZNAME:CEST
DTSTART:20240331T010000
END:DAYLIGHT
BEGIN:STANDARD
TZOFFSETFROM:+0200
TZOFFSETTO:+0100
TZNAME:CET
DTSTART:20241027T010000
END:STANDARD
BEGIN:DAYLIGHT
TZOFFSETFROM:+0100
TZOFFSETTO:+0200
TZNAME:CEST
DTSTART:20250330T010000
END:DAYLIGHT
BEGIN:STANDARD
TZOFFSETFROM:+0200
TZOFFSETTO:+0100
TZNAME:CET
DTSTART:20251026T010000
END:STANDARD
BEGIN:DAYLIGHT
TZOFFSETFROM:+0100
TZOFFSETTO:+0200
TZNAME:CEST
DTSTART:20260329T010000
END:DAYLIGHT
BEGIN:STANDARD
TZOFFSETFROM:+0200
TZOFFSETTO:+0100
TZNAME:CET
DTSTART:20261025T010000
END:STANDARD
END:VTIMEZONE
BEGIN:VEVENT
DTSTART;VALUE=DATE:20251008
DTEND;VALUE=DATE:20251009
DTSTAMP:20260422T194219
CREATED:20251003T102104Z
LAST-MODIFIED:20251003T102104Z
UID:14267-1759881600-1759967999@pharmfoot.com
SUMMARY:WIELKI TEST WIEDZY PODOLOGICZNEJ
DESCRIPTION:
URL:https://pharmfoot.com/event/wielki-test-wiedzy-podologicznej/
ATTACH;FMTTYPE=image/jpeg:https://pharmfoot.com/wp-content/uploads/2025/10/vynn_pf_test_wiedzy_370x480_PLE.jpg
ORGANIZER;CN="PHARM FOOT":MAILTO:info@pharmfoot.com
END:VEVENT
BEGIN:VEVENT
DTSTART;TZID=Europe/Warsaw:20251009T200000
DTEND;TZID=Europe/Warsaw:20251009T220000
DTSTAMP:20260422T194219
CREATED:20251007T083117Z
LAST-MODIFIED:20251007T083117Z
UID:14300-1760040000-1760047200@pharmfoot.com
SUMMARY:ZOOM WEBINAR - Marta Łukoszek
DESCRIPTION:
URL:https://pharmfoot.com/event/zoom-webinar-marta-lukoszek/
ATTACH;FMTTYPE=image/jpeg:https://pharmfoot.com/wp-content/uploads/2025/10/vynn_pf_webinar_zoom_event_370x480.jpg
ORGANIZER;CN="PHARM FOOT":MAILTO:info@pharmfoot.com
END:VEVENT
BEGIN:VEVENT
DTSTART;TZID=Europe/Warsaw:20251019T090000
DTEND;TZID=Europe/Warsaw:20251019T163000
DTSTAMP:20260422T194219
CREATED:20250916T132351Z
LAST-MODIFIED:20250916T132648Z
UID:14201-1760864400-1760891400@pharmfoot.com
SUMMARY:MASTERCLASS WROCŁAW 19.10.25
DESCRIPTION:
URL:https://pharmfoot.com/event/masterclass-wroclaw-19-10-25/
LOCATION:Campanile Wrocław Centrum\, ul. Ślężna 26-28\, 53-302 Wrocław\, Wrocław
ATTACH;FMTTYPE=image/jpeg:https://pharmfoot.com/wp-content/uploads/2025/09/VYNN_VV_PF_MASTERCLASS_WROCLAW-19-10-2025_370x480.jpg
END:VEVENT
BEGIN:VEVENT
DTSTART;TZID=Europe/Warsaw:20251020T190000
DTEND;TZID=Europe/Warsaw:20251020T203000
DTSTAMP:20260422T194219
CREATED:20251014T123705Z
LAST-MODIFIED:20251014T123705Z
UID:14335-1760986800-1760992200@pharmfoot.com
SUMMARY:INSTAGRAM LIVE 20.10.2025
DESCRIPTION:
URL:https://pharmfoot.com/event/instagram-live-20-10-2025/
ORGANIZER;CN="PHARM FOOT":MAILTO:info@pharmfoot.com
END:VEVENT
END:VCALENDAR