BEGIN:VCALENDAR
VERSION:2.0
PRODID:-//PHARM FOOT - ECPv6.15.18//NONSGML v1.0//EN
CALSCALE:GREGORIAN
METHOD:PUBLISH
X-WR-CALNAME:PHARM FOOT
X-ORIGINAL-URL:https://pharmfoot.com
X-WR-CALDESC:Wydarzenia dla PHARM FOOT
REFRESH-INTERVAL;VALUE=DURATION:PT1H
X-Robots-Tag:noindex
X-PUBLISHED-TTL:PT1H
BEGIN:VTIMEZONE
TZID:Europe/Warsaw
BEGIN:DAYLIGHT
TZOFFSETFROM:+0100
TZOFFSETTO:+0200
TZNAME:CEST
DTSTART:20240331T010000
END:DAYLIGHT
BEGIN:STANDARD
TZOFFSETFROM:+0200
TZOFFSETTO:+0100
TZNAME:CET
DTSTART:20241027T010000
END:STANDARD
BEGIN:DAYLIGHT
TZOFFSETFROM:+0100
TZOFFSETTO:+0200
TZNAME:CEST
DTSTART:20250330T010000
END:DAYLIGHT
BEGIN:STANDARD
TZOFFSETFROM:+0200
TZOFFSETTO:+0100
TZNAME:CET
DTSTART:20251026T010000
END:STANDARD
BEGIN:DAYLIGHT
TZOFFSETFROM:+0100
TZOFFSETTO:+0200
TZNAME:CEST
DTSTART:20260329T010000
END:DAYLIGHT
BEGIN:STANDARD
TZOFFSETFROM:+0200
TZOFFSETTO:+0100
TZNAME:CET
DTSTART:20261025T010000
END:STANDARD
END:VTIMEZONE
BEGIN:VEVENT
DTSTART;TZID=Europe/Warsaw:20251113T200000
DTEND;TZID=Europe/Warsaw:20251113T220000
DTSTAMP:20260422T181824
CREATED:20251007T084213Z
LAST-MODIFIED:20251007T084213Z
UID:14306-1763064000-1763071200@pharmfoot.com
SUMMARY:ZOOM WEBINAR - Alicja Majchrzak
DESCRIPTION:
URL:https://pharmfoot.com/event/zoom-webinar-alicja-majchrzak/
ATTACH;FMTTYPE=image/jpeg:https://pharmfoot.com/wp-content/uploads/2025/10/vynn_pf_webinar_zoom_event_370x4801.jpg
ORGANIZER;CN="PHARM FOOT":MAILTO:info@pharmfoot.com
END:VEVENT
BEGIN:VEVENT
DTSTART;VALUE=DATE:20251115
DTEND;VALUE=DATE:20251117
DTSTAMP:20260422T181824
CREATED:20251029T113613Z
LAST-MODIFIED:20251029T113914Z
UID:14368-1763164800-1763337599@pharmfoot.com
SUMMARY:Targi LNE Kraków 15–16 listopada 2025
DESCRIPTION:
URL:https://pharmfoot.com/event/targi-lne-krakow-15-16-listopada-2025/
LOCATION:EXPO Kraków\, ul. Galicyjska 9\, 31-586 Kraków
ATTACH;FMTTYPE=image/jpeg:https://pharmfoot.com/wp-content/uploads/2025/10/vynn_pf_lne_rabat30_370x480_PLE.jpg
END:VEVENT
BEGIN:VEVENT
DTSTART;TZID=Europe/Warsaw:20251121T080000
DTEND;TZID=Europe/Warsaw:20251121T210000
DTSTAMP:20260422T181824
CREATED:20251113T125026Z
LAST-MODIFIED:20251113T125332Z
UID:14599-1763712000-1763758800@pharmfoot.com
SUMMARY:PODOday on tour - KGBeauty Kosmetyka i Podologia
DESCRIPTION:
URL:https://pharmfoot.com/event/pododay-on-tour-kgbeauty-kosmetyka-i-podologia/
LOCATION:KG Beauty Kosmetyka i Podologia – Kraków\, Poland
ATTACH;FMTTYPE=image/jpeg:https://pharmfoot.com/wp-content/uploads/2025/11/vynn_pf_podoDay_370x480.jpg
ORGANIZER;CN="PHARM FOOT":MAILTO:info@pharmfoot.com
END:VEVENT
BEGIN:VEVENT
DTSTART;TZID=Europe/Warsaw:20251130T090000
DTEND;TZID=Europe/Warsaw:20251130T163000
DTSTAMP:20260422T181824
CREATED:20251006T105619Z
LAST-MODIFIED:20251006T105750Z
UID:14296-1764493200-1764520200@pharmfoot.com
SUMMARY:MASTERCLASS WARSZAWA 30.11.25
DESCRIPTION:
URL:https://pharmfoot.com/event/masterclass-warszawa-30-11-25/
LOCATION:Centrum Konferencyjne WEST GATE\, Al. Jerozolimskie 92\, Warszawa\, mazowieckie\, 00-807\, Poland
ATTACH;FMTTYPE=image/jpeg:https://pharmfoot.com/wp-content/uploads/2025/10/VV_PF_Masterclass_WARSZAWA_30.11.2025_370x480.jpg
END:VEVENT
END:VCALENDAR