BEGIN:VCALENDAR
VERSION:2.0
PRODID:-//PHARM FOOT - ECPv6.15.18//NONSGML v1.0//EN
CALSCALE:GREGORIAN
METHOD:PUBLISH
X-WR-CALNAME:PHARM FOOT
X-ORIGINAL-URL:https://pharmfoot.com
X-WR-CALDESC:Wydarzenia dla PHARM FOOT
REFRESH-INTERVAL;VALUE=DURATION:PT1H
X-Robots-Tag:noindex
X-PUBLISHED-TTL:PT1H
BEGIN:VTIMEZONE
TZID:Europe/Warsaw
BEGIN:DAYLIGHT
TZOFFSETFROM:+0100
TZOFFSETTO:+0200
TZNAME:CEST
DTSTART:20250330T010000
END:DAYLIGHT
BEGIN:STANDARD
TZOFFSETFROM:+0200
TZOFFSETTO:+0100
TZNAME:CET
DTSTART:20251026T010000
END:STANDARD
BEGIN:DAYLIGHT
TZOFFSETFROM:+0100
TZOFFSETTO:+0200
TZNAME:CEST
DTSTART:20260329T010000
END:DAYLIGHT
BEGIN:STANDARD
TZOFFSETFROM:+0200
TZOFFSETTO:+0100
TZNAME:CET
DTSTART:20261025T010000
END:STANDARD
BEGIN:DAYLIGHT
TZOFFSETFROM:+0100
TZOFFSETTO:+0200
TZNAME:CEST
DTSTART:20270328T010000
END:DAYLIGHT
BEGIN:STANDARD
TZOFFSETFROM:+0200
TZOFFSETTO:+0100
TZNAME:CET
DTSTART:20271031T010000
END:STANDARD
END:VTIMEZONE
BEGIN:VEVENT
DTSTART;TZID=Europe/Warsaw:20260513T180000
DTEND;TZID=Europe/Warsaw:20260514T220000
DTSTAMP:20260422T123551
CREATED:20260413T122326Z
LAST-MODIFIED:20260413T122326Z
UID:15441-1778695200-1778796000@pharmfoot.com
SUMMARY:PODO EXPERIENCE - EDYCJA II
DESCRIPTION:KUP WEJŚCIÓWKĘ JUŻ TERAZ!\n(ILOŚĆ MIEJSC JEST OGRANICZONA)
URL:https://pharmfoot.com/event/podo-experience-edycja-ii/
ATTACH;FMTTYPE=image/jpeg:https://pharmfoot.com/wp-content/uploads/2026/04/vynn_pf_podo_experience_370x480.jpg
ORGANIZER;CN="PHARM FOOT":MAILTO:info@pharmfoot.com
END:VEVENT
BEGIN:VEVENT
DTSTART;TZID=Europe/Warsaw:20260521T200000
DTEND;TZID=Europe/Warsaw:20260521T213000
DTSTAMP:20260422T123551
CREATED:20260416T115112Z
LAST-MODIFIED:20260416T115526Z
UID:15458-1779393600-1779399000@pharmfoot.com
SUMMARY:Webinar Online 2026 - Beata Kamińska
DESCRIPTION:KUP SWÓJ BILET TERAZ! (ilość miejsc ograniczona)\n\n  \n⬇️ Nie zapomnij kliknąć w przycisk „Dodaj do kalendarza” aby nie pominąć wydarzenia! ⬇️
URL:https://pharmfoot.com/event/webinar-online-2026-beata-kaminska/
ATTACH;FMTTYPE=image/jpeg:https://pharmfoot.com/wp-content/uploads/2026/04/vynn_pf_webinar_Beata_Kaminska_05.2026_370x480.jpg
ORGANIZER;CN="PHARM FOOT":MAILTO:info@pharmfoot.com
END:VEVENT
END:VCALENDAR